BEGIN:VCALENDAR
VERSION:2.0
PRODID:Events Booking
BEGIN:VEVENT
UID:69e925d102ab3
SUMMARY:AK Gesundheit\, Soziales und Sport  liberale Gesundheitspolitik - w
 ie passt das Krankenhaus-Strukturreformgesetz dazu?
DESCRIPTION:Online-Meeting mit Prof. Andrew Ullmann\, MdB und gesundheitspo
 litischer Sprecher der FDP-Bundestagsfraktion.
DTSTART:20250212T183000Z
DTSTAMP:20250113T111723Z
ORGANIZER;CN=FDP Düsseldorf:MAILTO:info@fdp-duesseldorf.de
END:VEVENT
END:VCALENDAR