BEGIN:VCALENDAR
VERSION:2.0
PRODID:Events Booking
BEGIN:VEVENT
UID:69e5df3984230
SUMMARY:AK Umwelt\, Energie\, Nachhaltigkeit und Verkehr
DESCRIPTION:Kreisgeschäftsstelle Sternstr. 44\, 40479 Düsseldorf
DTSTART:20250507T173000Z
DTSTAMP:20250407T063709Z
ORGANIZER;CN=FDP Düsseldorf:MAILTO:info@fdp-duesseldorf.de
END:VEVENT
END:VCALENDAR