BEGIN:VCALENDAR
VERSION:2.0
PRODID:Events Booking
BEGIN:VEVENT
UID:69eb24b8a3c93
SUMMARY:Austausch Ortsvorsitzende und Bezirksvertretung
DESCRIPTION:Bitte beachten: Die Sitzung tagt nicht öffentlich.
DTSTART:20260506T160000Z
DTSTAMP:20260331T102900Z
ORGANIZER;CN=FDP Düsseldorf:MAILTO:info@fdp-duesseldorf.de
END:VEVENT
END:VCALENDAR