BEGIN:VCALENDAR
VERSION:2.0
PRODID:Events Booking
BEGIN:VEVENT
UID:69e8a356e8b8c
SUMMARY:Club Liberal
DESCRIPTION:Zum Schlüssel (Bolkerstraße 41-47\, 40213 Düsseldorf)&nbsp\;
 ab 19:30 Uhr.
DTSTART:20260615T173000Z
DTSTAMP:20260421T073546Z
ORGANIZER;CN=FDP Düsseldorf:MAILTO:info@fdp-duesseldorf.de
END:VEVENT
END:VCALENDAR