BEGIN:VCALENDAR
VERSION:2.0
PRODID:Events Booking
BEGIN:VEVENT
UID:69e8a362e07bd
SUMMARY:Kreishauptausschuss
DESCRIPTION:„Haus der Jugend“ Lacombletstr. 10\, 40239 Düsseldorf
 St
 immberechtigt sind die Delegierten des Kreishauptausschusses.
DTSTART:20260520T170000Z
DTSTAMP:20260330T092941Z
ORGANIZER;CN=FDP Düsseldorf:MAILTO:info@fdp-duesseldorf.de
END:VEVENT
END:VCALENDAR