BEGIN:VCALENDAR
VERSION:2.0
PRODID:Events Booking
BEGIN:VEVENT
UID:69e8a4ed92483
SUMMARY:OV 1 Mitgliedertreffen
DESCRIPTION:Hirschchen\, Alt-Pempelfort 2\, 40211 Düsseldorf
DTSTART:20260506T173000Z
DTEND:20260506T193000Z
DTSTAMP:20260223T083909Z
ORGANIZER;CN=FDP Düsseldorf:MAILTO:info@fdp-duesseldorf.de
END:VEVENT
END:VCALENDAR