BEGIN:VCALENDAR
VERSION:2.0
PRODID:Events Booking
BEGIN:VEVENT
UID:69e8b51b58c20
SUMMARY:OV 1 Mitgliedertreffen
DESCRIPTION:Hirschchen\, Alt-Pempelfort 2\, 40211 Düsseldorf
DTSTART:20260702T173000Z
DTEND:20260702T193000Z
DTSTAMP:20260223T084008Z
ORGANIZER;CN=FDP Düsseldorf:MAILTO:info@fdp-duesseldorf.de
END:VEVENT
END:VCALENDAR