BEGIN:VCALENDAR
VERSION:2.0
PRODID:Events Booking
BEGIN:VEVENT
UID:69e8b540a86a7
SUMMARY:OV 1 Mitgliedertreffen
DESCRIPTION:Hirschchen\, Alt-Pempelfort 2\, 40211 Düsseldorf
DTSTART:20261203T183000Z
DTEND:20261203T203000Z
DTSTAMP:20260223T084148Z
ORGANIZER;CN=FDP Düsseldorf:MAILTO:info@fdp-duesseldorf.de
END:VEVENT
END:VCALENDAR