BEGIN:VCALENDAR
VERSION:2.0
PRODID:Events Booking
BEGIN:VEVENT
UID:69eb244d0880c
SUMMARY:OV 4 Mitgliedertreffen
DESCRIPTION:La Passion du Vin\, Alt Niederkassel 71\, 40547 Düsseldorf
DTSTART:20260623T170000Z
DTEND:20260623T190000Z
DTSTAMP:20260401T072625Z
ORGANIZER;CN=FDP Düsseldorf:MAILTO:info@fdp-duesseldorf.de
END:VEVENT
END:VCALENDAR