BEGIN:VCALENDAR
VERSION:2.0
PRODID:Events Booking
BEGIN:VEVENT
UID:69eb261c9c964
SUMMARY:OV 4 Mitgliedertreffen
DESCRIPTION:La Passion du Vin\, Alt Niederkassel 71\, 40547 Düsseldorf
DTSTART:20261105T180000Z
DTEND:20261105T200000Z
DTSTAMP:20260401T073050Z
ORGANIZER;CN=FDP Düsseldorf:MAILTO:info@fdp-duesseldorf.de
END:VEVENT
END:VCALENDAR