BEGIN:VCALENDAR
VERSION:2.0
PRODID:Events Booking
BEGIN:VEVENT
UID:69eb2611adf0c
SUMMARY:OV 4 Mitgliedertreffen (digital)
DESCRIPTION:Die Zugangsdaten erfolgen.
DTSTART:20260528T170000Z
DTEND:20260528T190000Z
DTSTAMP:20260401T072517Z
ORGANIZER;CN=FDP Düsseldorf:MAILTO:info@fdp-duesseldorf.de
END:VEVENT
END:VCALENDAR