BEGIN:VCALENDAR
VERSION:2.0
PRODID:Events Booking
BEGIN:VEVENT
UID:69e8a37fa2f34
SUMMARY:OV 4 Vorbereitung Wahlkampf NRW (digital)
DESCRIPTION:Die Zugangsdaten erfolgen.
DTSTART:20260922T170000Z
DTEND:20260922T190000Z
DTSTAMP:20260401T072938Z
ORGANIZER;CN=FDP Düsseldorf:MAILTO:info@fdp-duesseldorf.de
END:VEVENT
END:VCALENDAR