BEGIN:VCALENDAR
VERSION:2.0
PRODID:Events Booking
BEGIN:VEVENT
UID:69eb260a62297
SUMMARY:OV 4 Sommerfest
DESCRIPTION:Genaue Uhrzeit folgt
DTSTART:20260828T170000Z
DTSTAMP:20260401T072730Z
ORGANIZER;CN=FDP Düsseldorf:MAILTO:info@fdp-duesseldorf.de
END:VEVENT
END:VCALENDAR