BEGIN:VCALENDAR
VERSION:2.0
PRODID:Events Booking
BEGIN:VEVENT
UID:69e8a362631cb
SUMMARY:OV 4 Weihnachtsessen
DESCRIPTION:Location folgt
DTSTART:20261208T180000Z
DTSTAMP:20260401T073144Z
ORGANIZER;CN=FDP Düsseldorf:MAILTO:info@fdp-duesseldorf.de
END:VEVENT
END:VCALENDAR