BEGIN:VCALENDAR
VERSION:2.0
PRODID:Events Booking
BEGIN:VEVENT
UID:69e8a3d2aa3c3
SUMMARY:OV 5 Offenes Ohr für Bürgeranliegen
DESCRIPTION:Stand am Klemensplatz\, Uhrzeit folgt.
DTSTART:20260619T220000Z
DTSTAMP:20260422T054809Z
ORGANIZER;CN=FDP Düsseldorf:MAILTO:info@fdp-duesseldorf.de
END:VEVENT
END:VCALENDAR