BEGIN:VCALENDAR
VERSION:2.0
PRODID:Events Booking
BEGIN:VEVENT
UID:69eb2427c9706
SUMMARY:OV 7 Mitgliedertreffen
DESCRIPTION:La Ruota\, Büdingenstraße 1\, 40625 Düsseldorf
DTSTART:20260513T173000Z
DTSTAMP:20260416T065745Z
ORGANIZER;CN=FDP Düsseldorf:MAILTO:info@fdp-duesseldorf.de
END:VEVENT
END:VCALENDAR