BEGIN:VCALENDAR
VERSION:2.0
PRODID:Events Booking
BEGIN:VEVENT
UID:69eb24616b8bd
SUMMARY:OV 7 Mitgliedertreffen
DESCRIPTION:Der Ort wird noch bekannt gegeben.
DTSTART:20261202T183000Z
DTSTAMP:20260416T070044Z
ORGANIZER;CN=FDP Düsseldorf:MAILTO:info@fdp-duesseldorf.de
END:VEVENT
END:VCALENDAR