BEGIN:VCALENDAR
VERSION:2.0
PRODID:Events Booking
BEGIN:VEVENT
UID:69eb248016e0b
SUMMARY:OV 7 Mitgliedertreffen
DESCRIPTION:Der Ort wird noch bekannt gegeben.
DTSTART:20260610T173000Z
DTSTAMP:20260416T065757Z
ORGANIZER;CN=FDP Düsseldorf:MAILTO:info@fdp-duesseldorf.de
END:VEVENT
END:VCALENDAR