BEGIN:VCALENDAR
VERSION:2.0
PRODID:Events Booking
BEGIN:VEVENT
UID:69e8b48b0af85
SUMMARY:OV 7 Mitgliedertreffen
DESCRIPTION:Der Ort wird noch bekannt gegeben.
DTSTART:20260812T173000Z
DTSTAMP:20260416T065851Z
ORGANIZER;CN=FDP Düsseldorf:MAILTO:info@fdp-duesseldorf.de
END:VEVENT
END:VCALENDAR