BEGIN:VCALENDAR
VERSION:2.0
PRODID:Events Booking
BEGIN:VEVENT
UID:69e8b48a5877b
SUMMARY:OV 7 Mitgliedertreffen
DESCRIPTION:Der Ort wird noch bekannt gegeben.
DTSTART:20261118T183000Z
DTSTAMP:20260416T070012Z
ORGANIZER;CN=FDP Düsseldorf:MAILTO:info@fdp-duesseldorf.de
END:VEVENT
END:VCALENDAR