BEGIN:VCALENDAR
VERSION:2.0
PRODID:Events Booking
BEGIN:VEVENT
UID:69e8a36266e11
SUMMARY:OV 5 Mitgliedertreffen
DESCRIPTION:Veranstaltungsort: Clubhaus 1920\, Neusser Weg 94\, 40474 Düss
 eldorf
DTSTART:20260505T173000Z
DTSTAMP:20260418T074849Z
ORGANIZER;CN=FDP Düsseldorf:MAILTO:info@fdp-duesseldorf.de
END:VEVENT
END:VCALENDAR