BEGIN:VCALENDAR
VERSION:2.0
PRODID:Events Booking
BEGIN:VEVENT
UID:69e8a3a933e3b
SUMMARY:Sound of Europe
DESCRIPTION:Am&nbsp\;9. Mai 2026&nbsp\;verwandelt sich der Hofgarten von&nb
 sp\;13 bis 16 Uhr&nbsp\;erneut in eine Open-Air-Bühne. Anläßlich des Eu
 ropatages freuen wir uns über eine rege Teilnahme aller liberalen Europä
 er in Düsseldorf. Wir sind wieder mit einem eigenen Zelt vor Ort.
DTSTART:20260509T110000Z
DTEND:20260509T140000Z
DTSTAMP:20260408T082542Z
ORGANIZER;CN=FDP Düsseldorf:MAILTO:info@fdp-duesseldorf.de
END:VEVENT
END:VCALENDAR